BEGIN:VCALENDAR
VERSION:2.0
PRODID:-//Can Blau - ECPv6.15.13//NONSGML v1.0//EN
CALSCALE:GREGORIAN
METHOD:PUBLISH
X-WR-CALNAME:Can Blau
X-ORIGINAL-URL:https://www.canblau.net
X-WR-CALDESC:Eventos para Can Blau
REFRESH-INTERVAL;VALUE=DURATION:PT1H
X-Robots-Tag:noindex
X-PUBLISHED-TTL:PT1H
BEGIN:VTIMEZONE
TZID:Europe/Madrid
BEGIN:DAYLIGHT
TZOFFSETFROM:+0100
TZOFFSETTO:+0200
TZNAME:CEST
DTSTART:20140330T010000
END:DAYLIGHT
BEGIN:STANDARD
TZOFFSETFROM:+0200
TZOFFSETTO:+0100
TZNAME:CET
DTSTART:20141026T010000
END:STANDARD
BEGIN:DAYLIGHT
TZOFFSETFROM:+0100
TZOFFSETTO:+0200
TZNAME:CEST
DTSTART:20150329T010000
END:DAYLIGHT
BEGIN:STANDARD
TZOFFSETFROM:+0200
TZOFFSETTO:+0100
TZNAME:CET
DTSTART:20151025T010000
END:STANDARD
BEGIN:DAYLIGHT
TZOFFSETFROM:+0100
TZOFFSETTO:+0200
TZNAME:CEST
DTSTART:20160327T010000
END:DAYLIGHT
BEGIN:STANDARD
TZOFFSETFROM:+0200
TZOFFSETTO:+0100
TZNAME:CET
DTSTART:20161030T010000
END:STANDARD
END:VTIMEZONE
BEGIN:VEVENT
DTSTART;TZID=Europe/Madrid:20150502T210000
DTEND;TZID=Europe/Madrid:20150502T220000
DTSTAMP:20260420T102610
CREATED:20150429T125423Z
LAST-MODIFIED:20150429T125423Z
UID:10010821-1430600400-1430604000@www.canblau.net
SUMMARY:CONCERT: VEUS D'HOMES EN SANT JOAN DE LABRITJA
DESCRIPTION:
URL:https://www.canblau.net/evento/concert-veus-dhomes-en-sant-joan-de-labritja/
LOCATION:SALA DE PLENOS DEL AYTO. SANT JOAN DE LABRITJA\, 07810\, España
CATEGORIES:Destacado
ATTACH;FMTTYPE=image/png:https://www.canblau.net/wp-content/uploads/2015/04/veus-sant-joan.png
GEO:39.0717396;1.5111806
END:VEVENT
END:VCALENDAR