BEGIN:VCALENDAR
VERSION:2.0
PRODID:-//Can Blau - ECPv6.15.13//NONSGML v1.0//EN
CALSCALE:GREGORIAN
METHOD:PUBLISH
X-WR-CALNAME:Can Blau
X-ORIGINAL-URL:https://www.canblau.net
X-WR-CALDESC:Eventos para Can Blau
REFRESH-INTERVAL;VALUE=DURATION:PT1H
X-Robots-Tag:noindex
X-PUBLISHED-TTL:PT1H
BEGIN:VTIMEZONE
TZID:Europe/Madrid
BEGIN:DAYLIGHT
TZOFFSETFROM:+0100
TZOFFSETTO:+0200
TZNAME:CEST
DTSTART:20140330T010000
END:DAYLIGHT
BEGIN:STANDARD
TZOFFSETFROM:+0200
TZOFFSETTO:+0100
TZNAME:CET
DTSTART:20141026T010000
END:STANDARD
BEGIN:DAYLIGHT
TZOFFSETFROM:+0100
TZOFFSETTO:+0200
TZNAME:CEST
DTSTART:20150329T010000
END:DAYLIGHT
BEGIN:STANDARD
TZOFFSETFROM:+0200
TZOFFSETTO:+0100
TZNAME:CET
DTSTART:20151025T010000
END:STANDARD
BEGIN:DAYLIGHT
TZOFFSETFROM:+0100
TZOFFSETTO:+0200
TZNAME:CEST
DTSTART:20160327T010000
END:DAYLIGHT
BEGIN:STANDARD
TZOFFSETFROM:+0200
TZOFFSETTO:+0100
TZNAME:CET
DTSTART:20161030T010000
END:STANDARD
END:VTIMEZONE
BEGIN:VEVENT
DTSTART;TZID=Europe/Madrid:20151018T190000
DTEND;TZID=Europe/Madrid:20151018T200000
DTSTAMP:20260422T171909
CREATED:20151013T154833Z
LAST-MODIFIED:20151013T160157Z
UID:10010857-1445194800-1445198400@www.canblau.net
SUMMARY:Concierto Benéfico Canblaugospel en San Miguel
DESCRIPTION:Concierto Benéfico canblaugospel… Un coro de cincuenta cantantes\, batería\, piano\, bajo eléctrico\, dirigido por Charlotte Look \nPara Caring Unites – Nepal \nNo se cobra entrada… Salida si quieres.
URL:https://www.canblau.net/evento/concierto-benefico-canblaugospel/
LOCATION:Iglesia de San Miguel\, España
CATEGORIES:Conciertos,Destacado
ATTACH;FMTTYPE=image/jpeg:https://www.canblau.net/wp-content/uploads/2015/10/Canblaugospel-pro-Nepal-2.jpg
GEO:40.463667;-3.74922
END:VEVENT
END:VCALENDAR