BEGIN:VCALENDAR
VERSION:2.0
PRODID:-//Can Blau - ECPv6.15.13//NONSGML v1.0//EN
CALSCALE:GREGORIAN
METHOD:PUBLISH
X-WR-CALNAME:Can Blau
X-ORIGINAL-URL:https://www.canblau.net
X-WR-CALDESC:Eventos para Can Blau
REFRESH-INTERVAL;VALUE=DURATION:PT1H
X-Robots-Tag:noindex
X-PUBLISHED-TTL:PT1H
BEGIN:VTIMEZONE
TZID:Europe/Madrid
BEGIN:DAYLIGHT
TZOFFSETFROM:+0100
TZOFFSETTO:+0200
TZNAME:CEST
DTSTART:20130331T010000
END:DAYLIGHT
BEGIN:STANDARD
TZOFFSETFROM:+0200
TZOFFSETTO:+0100
TZNAME:CET
DTSTART:20131027T010000
END:STANDARD
BEGIN:DAYLIGHT
TZOFFSETFROM:+0100
TZOFFSETTO:+0200
TZNAME:CEST
DTSTART:20140330T010000
END:DAYLIGHT
BEGIN:STANDARD
TZOFFSETFROM:+0200
TZOFFSETTO:+0100
TZNAME:CET
DTSTART:20141026T010000
END:STANDARD
BEGIN:DAYLIGHT
TZOFFSETFROM:+0100
TZOFFSETTO:+0200
TZNAME:CEST
DTSTART:20150329T010000
END:DAYLIGHT
BEGIN:STANDARD
TZOFFSETFROM:+0200
TZOFFSETTO:+0100
TZNAME:CET
DTSTART:20151025T010000
END:STANDARD
END:VTIMEZONE
BEGIN:VEVENT
DTSTART;TZID=Europe/Madrid:20140614T200000
DTEND;TZID=Europe/Madrid:20140614T220000
DTSTAMP:20260419T203122
CREATED:20140521T180232Z
LAST-MODIFIED:20140602T165547Z
UID:10010747-1402776000-1402783200@www.canblau.net
SUMMARY:Fiesta fin de curso!!!
DESCRIPTION:Ven a la fiesta fin de curso\, nuestra banda municipal y banditas de la escuela lo darán todo para que disfrutemos!!!\n 
URL:https://www.canblau.net/evento/fiesta-fin-de-curso/
LOCATION:Colegio Can Blau
CATEGORIES:Destacado
ATTACH;FMTTYPE=image/jpeg:https://www.canblau.net/wp-content/uploads/2014/05/Diapositiva01.jpg
END:VEVENT
END:VCALENDAR