BEGIN:VCALENDAR
VERSION:2.0
PRODID:-//Can Blau - ECPv6.15.13//NONSGML v1.0//EN
CALSCALE:GREGORIAN
METHOD:PUBLISH
X-ORIGINAL-URL:https://www.canblau.net
X-WR-CALDESC:Eventos para Can Blau
REFRESH-INTERVAL;VALUE=DURATION:PT1H
X-Robots-Tag:noindex
X-PUBLISHED-TTL:PT1H
BEGIN:VTIMEZONE
TZID:Europe/Madrid
BEGIN:DAYLIGHT
TZOFFSETFROM:+0100
TZOFFSETTO:+0200
TZNAME:CEST
DTSTART:20140330T010000
END:DAYLIGHT
BEGIN:STANDARD
TZOFFSETFROM:+0200
TZOFFSETTO:+0100
TZNAME:CET
DTSTART:20141026T010000
END:STANDARD
BEGIN:DAYLIGHT
TZOFFSETFROM:+0100
TZOFFSETTO:+0200
TZNAME:CEST
DTSTART:20150329T010000
END:DAYLIGHT
BEGIN:STANDARD
TZOFFSETFROM:+0200
TZOFFSETTO:+0100
TZNAME:CET
DTSTART:20151025T010000
END:STANDARD
BEGIN:DAYLIGHT
TZOFFSETFROM:+0100
TZOFFSETTO:+0200
TZNAME:CEST
DTSTART:20160327T010000
END:DAYLIGHT
BEGIN:STANDARD
TZOFFSETFROM:+0200
TZOFFSETTO:+0100
TZNAME:CET
DTSTART:20161030T010000
END:STANDARD
END:VTIMEZONE
BEGIN:VEVENT
DTSTART;TZID=Europe/Madrid:20150517T200000
DTEND;TZID=Europe/Madrid:20150517T210000
DTSTAMP:20260420T120838
CREATED:20150511T150017Z
LAST-MODIFIED:20150512T165841Z
UID:10010725-1431892800-1431896400@www.canblau.net
SUMMARY:CONCIERTO: CANBLAUGOSPEL EN LA IGLESIA DE PUIG D'EN VALLS
DESCRIPTION:Concierto benéfico a favor del centro Llar d’infants Mare del Remei.
URL:https://www.canblau.net/evento/concierto-canblaugospel-en-la-iglesia-de-puig-den-valls/
LOCATION:Iglesia Puig D’en Valls\, 07813
CATEGORIES:Destacado
ATTACH;FMTTYPE=image/jpeg:https://www.canblau.net/wp-content/uploads/2015/03/1_JLSNTpt.jpg__960x400_q85_crop.jpg
GEO:50.6912633;29.8446305
END:VEVENT
END:VCALENDAR