BEGIN:VCALENDAR
VERSION:2.0
PRODID:-//Can Blau - ECPv6.15.13//NONSGML v1.0//EN
CALSCALE:GREGORIAN
METHOD:PUBLISH
X-ORIGINAL-URL:https://www.canblau.net
X-WR-CALDESC:Eventos para Can Blau
REFRESH-INTERVAL;VALUE=DURATION:PT1H
X-Robots-Tag:noindex
X-PUBLISHED-TTL:PT1H
BEGIN:VTIMEZONE
TZID:Europe/Madrid
BEGIN:DAYLIGHT
TZOFFSETFROM:+0100
TZOFFSETTO:+0200
TZNAME:CEST
DTSTART:20130331T010000
END:DAYLIGHT
BEGIN:STANDARD
TZOFFSETFROM:+0200
TZOFFSETTO:+0100
TZNAME:CET
DTSTART:20131027T010000
END:STANDARD
BEGIN:DAYLIGHT
TZOFFSETFROM:+0100
TZOFFSETTO:+0200
TZNAME:CEST
DTSTART:20140330T010000
END:DAYLIGHT
BEGIN:STANDARD
TZOFFSETFROM:+0200
TZOFFSETTO:+0100
TZNAME:CET
DTSTART:20141026T010000
END:STANDARD
BEGIN:DAYLIGHT
TZOFFSETFROM:+0100
TZOFFSETTO:+0200
TZNAME:CEST
DTSTART:20150329T010000
END:DAYLIGHT
BEGIN:STANDARD
TZOFFSETFROM:+0200
TZOFFSETTO:+0100
TZNAME:CET
DTSTART:20151025T010000
END:STANDARD
END:VTIMEZONE
BEGIN:VEVENT
DTSTART;TZID=Europe/Madrid:20140701T080000
DTEND;TZID=Europe/Madrid:20140915T170000
DTSTAMP:20260419T233838
CREATED:20140627T091154Z
LAST-MODIFIED:20140912T062036Z
UID:10010752-1404201600-1410800400@www.canblau.net
SUMMARY:HORARIOS Y LISTA DE ALUMNOS ADMITIDOS
DESCRIPTION:PULSA SOBRE EL ENLACE PARA OBTENER  INFORMACIÓN\n  \nLISTADOS ALUMNOS CURSO 14 15\n\nHORARIO PROVISIONAL\n\n  \nEl numero de cuenta para realizar el ingreso de la matricula es  el siguiente:\nSa Nostra (BMN) ES03 0487 2244 1534  0000 0069\nSi lo prefieren pueden efectuar el pago en el colegio mediante tarjeta bancaria. \n  \nDurante la primera semana del curso publicaremos los horarios de clases individuales de instrumentos. \n  \n 
URL:https://www.canblau.net/evento/horarios-y-lista-de-alumnos-admitidos/
LOCATION:Colegio Can Blau
CATEGORIES:Destacado
ATTACH;FMTTYPE=image/jpeg:https://www.canblau.net/wp-content/uploads/2014/06/FOTO-HORARIOS.jpg
END:VEVENT
BEGIN:VEVENT
DTSTART;TZID=Europe/Madrid:20140519T080000
DTEND;TZID=Europe/Madrid:20140627T170000
DTSTAMP:20260419T233838
CREATED:20140516T064635Z
LAST-MODIFIED:20140522T091152Z
UID:10010742-1400486400-1403888400@www.canblau.net
SUMMARY:Matricula abierta curso escolar 2014-2015
DESCRIPTION:  \n  \n  \n  \n  \nRenovación de matrícula: \n  \nEl lunes\, 19 de mayo 2014\, empezamos con las renovaciones de matrículas para el año escolar 2014-15. \nLos impresos de la renovación de matricula o préstamo de instrumento  podéis descargar de la página www.canblau.net o recogerlo en horario de oficina de lunes a miércoles de 16h a 20h\, jueves y viernes de 10.00h a 14.00h. Rogamos que nos devolváis la renovación de matrícula antes del 6 de junio de 2014. \nEl 1 de julio de 2014 se publicará la lista de admitidos y el horario provisional en el tablón de anuncios de Can Blau y en la pagina web. Del 1 de julio hasta el 17 de julio de 2014 podréis formalizar la matrícula con el ingreso bancario de la cuota de matrícula correspondiente o pago con tarjeta en el colegio. \n  \n  \nPreinscripción de nuevos alumnos: \n  \nEl lunes\, 26 de mayo 2014\, empezamos con las preinscripciones para el año escolar 2014-15. \nLos impresos de la preinscripción podéis descargar de la página www.canblau.net o recogerlo en horario de oficina de lunes a miércoles de 16h a 20h\, jueves y viernes de 10.00h a 14.00h.. La preinscripción se cierra el 27 de junio. \n  \nEl 1 de julio de 2014 se publicará la lista de admitidos y el horario provisional en el tablón de anuncios de Can Blau y la pagina web. Del 1 de julio hasta el 17 de julio de 2014 podréis formalizar la matrícula con el ingreso bancario de la cuota de matrícula correspondiente  o pago con tarjeta en el colegio.. \n  \n  \n 
URL:https://www.canblau.net/evento/matricula-abierta-curso-escolar-2014-2015/
LOCATION:Colegio Can Blau
CATEGORIES:Destacado
ATTACH;FMTTYPE=image/jpeg:https://www.canblau.net/wp-content/uploads/2014/05/Diapositiva012.jpg
END:VEVENT
BEGIN:VEVENT
DTSTART;TZID=Europe/Madrid:20140518T190000
DTEND;TZID=Europe/Madrid:20140518T203000
DTSTAMP:20260419T233838
CREATED:20140502T061527Z
LAST-MODIFIED:20140509T105800Z
UID:10010738-1400439600-1400445000@www.canblau.net
SUMMARY:Concierto Canblaugospel \,  Benéfico Cruz Roja
DESCRIPTION:El coro Canblaugospel rompe los esquemas más conservadores del género mezclando con energía la tradición con otros estilos\, como el funk\, el rock y el blues.  Siempre acompañados por batería\, piano y bajo eléctrico.
URL:https://www.canblau.net/evento/concierto-de-canblaugospel/
LOCATION:Can Ventosa\, Ibiza
CATEGORIES:Conciertos,Destacado
ATTACH;FMTTYPE=image/jpeg:https://www.canblau.net/wp-content/uploads/2014/05/gospel.jpg
GEO:39.0200099;1.4821482
END:VEVENT
BEGIN:VEVENT
DTSTART;TZID=Europe/Madrid:20140511T183000
DTEND;TZID=Europe/Madrid:20140511T193000
DTSTAMP:20260419T233838
CREATED:20140411T072645Z
LAST-MODIFIED:20140507T061319Z
UID:10010734-1399833000-1399836600@www.canblau.net
SUMMARY:Coro Can Blau “Ibiza Medieval”
DESCRIPTION:
URL:https://www.canblau.net/evento/concierto-del-coro-de-adultos-de-can-blau-en-la-fiesta-medieval/
LOCATION:Iglesia Santo Domingo\, Eivissa
CATEGORIES:Conciertos,Destacado
ATTACH;FMTTYPE=image/jpeg:https://www.canblau.net/wp-content/uploads/2014/04/Mercado-Medieval-16-FU-J-A-Riera.jpg
GEO:38.9085387;1.4265579
END:VEVENT
END:VCALENDAR