BEGIN:VCALENDAR
VERSION:2.0
PRODID:-//Can Blau - ECPv6.15.13//NONSGML v1.0//EN
CALSCALE:GREGORIAN
METHOD:PUBLISH
X-WR-CALNAME:Can Blau
X-ORIGINAL-URL:https://www.canblau.net
X-WR-CALDESC:Eventos para Can Blau
REFRESH-INTERVAL;VALUE=DURATION:PT1H
X-Robots-Tag:noindex
X-PUBLISHED-TTL:PT1H
BEGIN:VTIMEZONE
TZID:Europe/Madrid
BEGIN:DAYLIGHT
TZOFFSETFROM:+0100
TZOFFSETTO:+0200
TZNAME:CEST
DTSTART:20130331T010000
END:DAYLIGHT
BEGIN:STANDARD
TZOFFSETFROM:+0200
TZOFFSETTO:+0100
TZNAME:CET
DTSTART:20131027T010000
END:STANDARD
BEGIN:DAYLIGHT
TZOFFSETFROM:+0100
TZOFFSETTO:+0200
TZNAME:CEST
DTSTART:20140330T010000
END:DAYLIGHT
BEGIN:STANDARD
TZOFFSETFROM:+0200
TZOFFSETTO:+0100
TZNAME:CET
DTSTART:20141026T010000
END:STANDARD
BEGIN:DAYLIGHT
TZOFFSETFROM:+0100
TZOFFSETTO:+0200
TZNAME:CEST
DTSTART:20150329T010000
END:DAYLIGHT
BEGIN:STANDARD
TZOFFSETFROM:+0200
TZOFFSETTO:+0100
TZNAME:CET
DTSTART:20151025T010000
END:STANDARD
END:VTIMEZONE
BEGIN:VEVENT
DTSTART;TZID=Europe/Madrid:20140622T203000
DTEND;TZID=Europe/Madrid:20140622T220000
DTSTAMP:20260419T220926
CREATED:20140609T163134Z
LAST-MODIFIED:20140609T164138Z
UID:10010749-1403469000-1403474400@www.canblau.net
SUMMARY:Teatre De Ponent\, presenta: "El Malentes" d´Albert Camus
DESCRIPTION:Para mas información pulsa sobre el póster pequeño
URL:https://www.canblau.net/evento/teatre-de-ponent-presenta-el-malentes-dalbert-camus/
LOCATION:Colegio Can Blau
CATEGORIES:Destacado
ATTACH;FMTTYPE=image/jpeg:https://www.canblau.net/wp-content/uploads/2014/06/Evento0001.jpg
END:VEVENT
BEGIN:VEVENT
DTSTART;TZID=Europe/Madrid:20140517T210000
DTEND;TZID=Europe/Madrid:20140517T220000
DTSTAMP:20260419T220926
CREATED:20140415T125812Z
LAST-MODIFIED:20140516T055512Z
UID:10010737-1400360400-1400364000@www.canblau.net
SUMMARY:Lunas de primavera (Concierto Petit Cor)
DESCRIPTION:Presenta su nuevo proyecto MASS & BLUES \nEsperem trobar-nos tots per a compartir aquest nou projecte de sonoritats jazzístiques que hem estat treballant durant aquest curs y amb el que volem aportat un aire fresc i renovat al nostra repertori i experiència. Una part de les peces seran interpretades “a capella”  i unes altres acompanyades per piano (Elvira Ramon)\, baix (Chema Pellico) i bateria (Dani Marí)\,   experts de intèrprets de la nostra illa \nFins llavors… \nPetit Cor
URL:https://www.canblau.net/evento/lunas-de-primavera-concierto-del-petit-cor/
LOCATION:Escuela Can Blau
CATEGORIES:Conciertos,Destacado
ATTACH;FMTTYPE=image/jpeg:https://www.canblau.net/wp-content/uploads/2014/04/Can-Blau.jpg
END:VEVENT
END:VCALENDAR